BEGIN:VCALENDAR
PRODID:-//eluceo/ical//2.0/EN
VERSION:2.0
CALSCALE:GREGORIAN
BEGIN:VEVENT
UID:event-113
DTSTAMP:20260422T140558Z
SUMMARY:Infuusprikken (incl. echogeleid)
DESCRIPTION:Zelfverzekerd infuusprikken tijdens je coschappen? Dit is je ka
 ns om het goed te leren of nog beter te worden! Tijdens deze workshop werk
  je aan de basisvaardigheden van infuusprikken en kun je je skills uitbrei
 den met echogeleid prikken. Oefenen = zelfvertrouwen. Hoe eerder je begint
  met oefenen\, des te handiger je erin wordt! Meld je gratis aan via onze 
 website en til je prikskills naar een hoger niveau! LET OP: echogeleid inf
 uusprikken kan alleen als je al eerder een infuus geprikt hebt!
DTSTART:20260507T170000Z
DTEND:20260507T190000Z
END:VEVENT
BEGIN:VTIMEZONE
TZID:UTC
BEGIN:STANDARD
DTSTART:20260507T170000
TZNAME:UTC
TZOFFSETTO:+0000
TZOFFSETFROM:+0000
END:STANDARD
END:VTIMEZONE
END:VCALENDAR
